![]() | Name | Last modified | Size | Description |
---|---|---|---|---|
![]() | Parent Directory | - | ||
![]() | buildbin-out.txt | 16-Oct-2021 04:06 | 24K | |
![]() | buildbin-summary.dcf | 16-Oct-2021 04:06 | 557 | |
![]() | buildsrc-out.txt | 16-Oct-2021 04:06 | 952 | |
![]() | buildsrc-summary.dcf | 16-Oct-2021 04:06 | 469 | |
![]() | checksrc-out.txt | 16-Oct-2021 04:06 | 6.3K | |
![]() | checksrc-summary.dcf | 16-Oct-2021 04:06 | 479 | |
![]() | install-out.txt | 16-Oct-2021 04:06 | 24K | |
![]() | install-summary.dcf | 16-Oct-2021 04:06 | 668 | |