![]() | Name | Last modified | Size | Description |
---|---|---|---|---|
![]() | Parent Directory | - | ||
![]() | buildsrc-out.txt | 16-Oct-2021 04:05 | 911 | |
![]() | buildsrc-summary.dcf | 16-Oct-2021 04:05 | 426 | |
![]() | checksrc-out.txt | 16-Oct-2021 04:05 | 4.7K | |
![]() | checksrc-summary.dcf | 16-Oct-2021 04:05 | 441 | |
![]() | install-out.txt | 16-Oct-2021 04:05 | 11K | |
![]() | install-summary.dcf | 16-Oct-2021 04:05 | 265 | |