![]() | Name | Last modified | Size | Description |
---|---|---|---|---|
![]() | Parent Directory | - | ||
![]() | buildbin-out.txt | 16-Oct-2021 04:06 | 9.7K | |
![]() | buildbin-summary.dcf | 16-Oct-2021 04:06 | 565 | |
![]() | buildsrc-out.txt | 16-Oct-2021 04:06 | 938 | |
![]() | buildsrc-summary.dcf | 16-Oct-2021 04:06 | 453 | |
![]() | checksrc-out.txt | 16-Oct-2021 04:06 | 4.8K | |
![]() | checksrc-summary.dcf | 16-Oct-2021 04:06 | 495 | |
![]() | install-out.txt | 16-Oct-2021 04:06 | 8.8K | |
![]() | install-summary.dcf | 16-Oct-2021 04:06 | 292 | |