Name | Last modified | Size | Description | |
---|---|---|---|---|
Parent Directory | - | |||
install-summary.dcf | 16-Oct-2021 04:05 | 712 | ||
install-out.txt | 16-Oct-2021 04:05 | 3.9K | ||
checksrc-summary.dcf | 16-Oct-2021 04:05 | 494 | ||
checksrc-out.txt | 16-Oct-2021 04:05 | 4.3K | ||
buildsrc-summary.dcf | 16-Oct-2021 04:05 | 491 | ||
buildsrc-out.txt | 16-Oct-2021 04:05 | 945 | ||
buildbin-summary.dcf | 16-Oct-2021 04:05 | 587 | ||
buildbin-out.txt | 16-Oct-2021 04:05 | 3.1K | ||