Name | Last modified | Size | Description | |
---|---|---|---|---|
Parent Directory | - | |||
buildbin-out.txt | 16-Oct-2021 04:05 | 16K | ||
buildbin-summary.dcf | 16-Oct-2021 04:05 | 534 | ||
buildsrc-out.txt | 16-Oct-2021 04:05 | 932 | ||
buildsrc-summary.dcf | 16-Oct-2021 04:05 | 455 | ||
checksrc-out.txt | 16-Oct-2021 04:05 | 4.2K | ||
checksrc-summary.dcf | 16-Oct-2021 04:05 | 464 | ||
install-out.txt | 16-Oct-2021 04:05 | 16K | ||
install-summary.dcf | 16-Oct-2021 04:05 | 632 | ||