Name | Last modified | Size | Description | |
---|---|---|---|---|
Parent Directory | - | |||
buildbin-out.txt | 16-Oct-2021 04:05 | 1.8K | ||
buildbin-summary.dcf | 16-Oct-2021 04:05 | 581 | ||
buildsrc-out.txt | 16-Oct-2021 04:05 | 880 | ||
buildsrc-summary.dcf | 16-Oct-2021 04:05 | 487 | ||
checksrc-out.txt | 16-Oct-2021 04:05 | 4.7K | ||
checksrc-summary.dcf | 16-Oct-2021 04:05 | 496 | ||
install-out.txt | 16-Oct-2021 04:05 | 2.5K | ||
install-summary.dcf | 16-Oct-2021 04:05 | 703 | ||