![]() | Name | Last modified | Size | Description |
---|---|---|---|---|
![]() | Parent Directory | - | ||
![]() | buildsrc-out.txt | 16-Oct-2021 04:05 | 955 | |
![]() | buildsrc-summary.dcf | 16-Oct-2021 04:05 | 447 | |
![]() | install-out.txt | 16-Oct-2021 04:05 | 4.2K | |
![]() | install-summary.dcf | 16-Oct-2021 04:05 | 613 | |
![]() | checksrc-out.txt | 16-Oct-2021 04:05 | 5.5K | |
![]() | checksrc-summary.dcf | 16-Oct-2021 04:05 | 450 | |
![]() | buildbin-out.txt | 16-Oct-2021 04:05 | 3.5K | |
![]() | buildbin-summary.dcf | 16-Oct-2021 04:05 | 521 | |