![]() | Name | Last modified | Size | Description |
---|---|---|---|---|
![]() | Parent Directory | - | ||
![]() | install-summary.dcf | 16-Oct-2021 04:06 | 280 | |
![]() | install-out.txt | 16-Oct-2021 04:06 | 2.0K | |
![]() | checksrc-summary.dcf | 16-Oct-2021 04:06 | 466 | |
![]() | checksrc-out.txt | 16-Oct-2021 04:06 | 3.9K | |
![]() | buildsrc-summary.dcf | 16-Oct-2021 04:06 | 436 | |
![]() | buildsrc-out.txt | 16-Oct-2021 04:06 | 946 | |
![]() | buildbin-summary.dcf | 16-Oct-2021 04:06 | 529 | |
![]() | buildbin-out.txt | 16-Oct-2021 04:06 | 2.8K | |