Name | Last modified | Size | Description | |
---|---|---|---|---|
Parent Directory | - | |||
buildsrc-out.txt | 16-Oct-2021 04:05 | 876 | ||
buildsrc-summary.dcf | 16-Oct-2021 04:05 | 457 | ||
install-out.txt | 16-Oct-2021 04:05 | 5.8K | ||
install-summary.dcf | 16-Oct-2021 04:05 | 634 | ||
checksrc-out.txt | 16-Oct-2021 04:05 | 4.8K | ||
checksrc-summary.dcf | 16-Oct-2021 04:05 | 460 | ||
buildbin-out.txt | 16-Oct-2021 04:05 | 5.1K | ||
buildbin-summary.dcf | 16-Oct-2021 04:05 | 536 | ||