![]() | Name | Last modified | Size | Description |
---|---|---|---|---|
![]() | Parent Directory | - | ||
![]() | buildbin-out.txt | 16-Oct-2021 04:05 | 1.9K | |
![]() | buildbin-summary.dcf | 16-Oct-2021 04:05 | 542 | |
![]() | buildsrc-out.txt | 16-Oct-2021 04:05 | 886 | |
![]() | buildsrc-summary.dcf | 16-Oct-2021 04:05 | 458 | |
![]() | checksrc-out.txt | 16-Oct-2021 04:05 | 4.2K | |
![]() | checksrc-summary.dcf | 16-Oct-2021 04:05 | 463 | |
![]() | install-out.txt | 16-Oct-2021 04:05 | 2.6K | |
![]() | install-summary.dcf | 16-Oct-2021 04:05 | 643 | |