Name | Last modified | Size | Description | |
---|---|---|---|---|
Parent Directory | - | |||
install-out.txt | 16-Oct-2021 04:05 | 2.4K | ||
install-summary.dcf | 16-Oct-2021 04:05 | 641 | ||
buildsrc-out.txt | 16-Oct-2021 04:05 | 845 | ||
buildsrc-summary.dcf | 16-Oct-2021 04:05 | 458 | ||
buildbin-summary.dcf | 16-Oct-2021 04:05 | 537 | ||
checksrc-out.txt | 16-Oct-2021 04:05 | 5.4K | ||
checksrc-summary.dcf | 16-Oct-2021 04:05 | 461 | ||
buildbin-out.txt | 16-Oct-2021 04:05 | 1.8K | ||