Name | Last modified | Size | Description | |
---|---|---|---|---|
Parent Directory | - | |||
buildbin-out.txt | 16-Oct-2021 04:06 | 1.6K | ||
buildbin-summary.dcf | 16-Oct-2021 04:06 | 553 | ||
buildsrc-out.txt | 16-Oct-2021 04:06 | 900 | ||
buildsrc-summary.dcf | 16-Oct-2021 04:06 | 448 | ||
checksrc-out.txt | 16-Oct-2021 04:06 | 6.0K | ||
checksrc-summary.dcf | 16-Oct-2021 04:06 | 482 | ||
install-out.txt | 16-Oct-2021 04:06 | 1.4K | ||
install-summary.dcf | 16-Oct-2021 04:06 | 288 | ||