Name | Last modified | Size | Description | |
---|---|---|---|---|
Parent Directory | - | |||
checksrc-out.txt | 16-Oct-2021 04:05 | 3.8K | ||
buildbin-out.txt | 16-Oct-2021 04:05 | 1.5K | ||
install-out.txt | 16-Oct-2021 04:05 | 1.4K | ||
buildsrc-out.txt | 16-Oct-2021 04:05 | 1.0K | ||
buildbin-summary.dcf | 16-Oct-2021 04:05 | 550 | ||
checksrc-summary.dcf | 16-Oct-2021 04:05 | 473 | ||
buildsrc-summary.dcf | 16-Oct-2021 04:05 | 471 | ||
install-summary.dcf | 16-Oct-2021 04:05 | 301 | ||