Name | Last modified | Size | Description | |
---|---|---|---|---|
Parent Directory | - | |||
buildbin-out.txt | 16-Oct-2021 04:06 | 1.0K | ||
buildbin-summary.dcf | 16-Oct-2021 04:06 | 548 | ||
buildsrc-out.txt | 16-Oct-2021 04:06 | 836 | ||
buildsrc-summary.dcf | 16-Oct-2021 04:06 | 445 | ||
checksrc-out.txt | 16-Oct-2021 04:06 | 3.9K | ||
checksrc-summary.dcf | 16-Oct-2021 04:06 | 481 | ||
install-out.txt | 16-Oct-2021 04:06 | 860 | ||
install-summary.dcf | 16-Oct-2021 04:06 | 287 | ||