![]() | Name | Last modified | Size | Description |
---|---|---|---|---|
![]() | Parent Directory | - | ||
![]() | buildsrc-summary.dcf | 16-Oct-2021 04:05 | 450 | |
![]() | checksrc-summary.dcf | 16-Oct-2021 04:05 | 454 | |
![]() | buildbin-summary.dcf | 16-Oct-2021 04:05 | 527 | |
![]() | install-summary.dcf | 16-Oct-2021 04:05 | 622 | |
![]() | buildsrc-out.txt | 16-Oct-2021 04:05 | 867 | |
![]() | buildbin-out.txt | 16-Oct-2021 04:05 | 3.8K | |
![]() | install-out.txt | 16-Oct-2021 04:05 | 4.5K | |
![]() | checksrc-out.txt | 16-Oct-2021 04:05 | 5.1K | |