Name | Last modified | Size | Description | |
---|---|---|---|---|
Parent Directory | - | |||
install-summary.dcf | 16-Oct-2021 04:05 | 748 | ||
install-out.txt | 16-Oct-2021 04:05 | 2.5K | ||
checksrc-summary.dcf | 16-Oct-2021 04:05 | 510 | ||
checksrc-out.txt | 16-Oct-2021 04:05 | 3.5K | ||
buildsrc-summary.dcf | 16-Oct-2021 04:05 | 507 | ||
buildsrc-out.txt | 16-Oct-2021 04:05 | 905 | ||
buildbin-summary.dcf | 16-Oct-2021 04:05 | 611 | ||
buildbin-out.txt | 16-Oct-2021 04:05 | 1.8K | ||