Name | Last modified | Size | Description | |
---|---|---|---|---|
Parent Directory | - | |||
install-summary.dcf | 16-Oct-2021 04:05 | 686 | ||
install-out.txt | 16-Oct-2021 04:05 | 3.5K | ||
checksrc-summary.dcf | 16-Oct-2021 04:05 | 487 | ||
checksrc-out.txt | 16-Oct-2021 04:05 | 12K | ||
buildsrc-summary.dcf | 16-Oct-2021 04:05 | 478 | ||
buildsrc-out.txt | 16-Oct-2021 04:05 | 856 | ||
buildbin-summary.dcf | 16-Oct-2021 04:05 | 569 | ||
buildbin-out.txt | 16-Oct-2021 04:05 | 2.6K | ||