Index of /checkResults/3.13/bioc-LATEST/animalcules/raw-results/machv2

[ICO]NameLast modifiedSizeDescription

[DIR]Parent Directory  -  
[   ]install-summary.dcf16-Oct-2021 04:06 293  
[   ]buildsrc-summary.dcf16-Oct-2021 04:06 454  
[   ]checksrc-summary.dcf16-Oct-2021 04:06 492  
[   ]buildbin-summary.dcf16-Oct-2021 04:06 567  
[TXT]buildsrc-out.txt16-Oct-2021 04:06 888  
[TXT]install-out.txt16-Oct-2021 04:06 1.0K 
[TXT]buildbin-out.txt16-Oct-2021 04:06 1.2K 
[TXT]checksrc-out.txt16-Oct-2021 04:06 4.9K