Name | Last modified | Size | Description | |
---|---|---|---|---|
Parent Directory | - | |||
buildbin-out.txt | 16-Oct-2021 04:05 | 2.1K | ||
buildbin-summary.dcf | 16-Oct-2021 04:05 | 533 | ||
buildsrc-out.txt | 16-Oct-2021 04:05 | 900 | ||
buildsrc-summary.dcf | 16-Oct-2021 04:05 | 454 | ||
checksrc-out.txt | 16-Oct-2021 04:05 | 4.4K | ||
checksrc-summary.dcf | 16-Oct-2021 04:05 | 458 | ||
install-out.txt | 16-Oct-2021 04:05 | 2.8K | ||
install-summary.dcf | 16-Oct-2021 04:05 | 631 | ||