Name | Last modified | Size | Description | |
---|---|---|---|---|
Parent Directory | - | |||
checksrc-out.txt | 16-Oct-2021 04:05 | 4.3K | ||
install-out.txt | 16-Oct-2021 04:05 | 2.9K | ||
buildbin-out.txt | 16-Oct-2021 04:05 | 2.2K | ||
buildsrc-out.txt | 16-Oct-2021 04:05 | 900 | ||
install-summary.dcf | 16-Oct-2021 04:05 | 631 | ||
buildbin-summary.dcf | 16-Oct-2021 04:05 | 533 | ||
checksrc-summary.dcf | 16-Oct-2021 04:05 | 458 | ||
buildsrc-summary.dcf | 16-Oct-2021 04:05 | 455 | ||