![]() | Name | Last modified | Size | Description |
---|---|---|---|---|
![]() | Parent Directory | - | ||
![]() | buildsrc-out.txt | 16-Oct-2021 04:05 | 798 | |
![]() | buildsrc-summary.dcf | 16-Oct-2021 04:05 | 410 | |
![]() | checksrc-out.txt | 16-Oct-2021 04:05 | 4.4K | |
![]() | checksrc-summary.dcf | 16-Oct-2021 04:05 | 415 | |
![]() | install-out.txt | 16-Oct-2021 04:05 | 941 | |
![]() | install-summary.dcf | 16-Oct-2021 04:05 | 255 | |