![]() | Name | Last modified | Size | Description |
---|---|---|---|---|
![]() | Parent Directory | - | ||
![]() | install-out.txt | 16-Oct-2021 04:05 | 1.0K | |
![]() | install-summary.dcf | 16-Oct-2021 04:05 | 263 | |
![]() | buildsrc-out.txt | 16-Oct-2021 04:05 | 814 | |
![]() | buildsrc-summary.dcf | 16-Oct-2021 04:05 | 423 | |
![]() | checksrc-out.txt | 16-Oct-2021 04:05 | 22K | |
![]() | checksrc-summary.dcf | 16-Oct-2021 04:05 | 431 | |