Index of /checkResults/3.13/bioc-LATEST/affyQCReport/raw-results/tokay2
Name
Last modified
Size
Description
Parent Directory
-
buildsrc-out.txt
16-Oct-2021 04:05
971
buildsrc-summary.dcf
16-Oct-2021 04:05
481
install-out.txt
16-Oct-2021 04:05
1.3K
install-summary.dcf
16-Oct-2021 04:05
687