Index of /checkResults/3.13/bioc-LATEST/affyQCReport/raw-results/nebbiolo1
Name
Last modified
Size
Description
Parent Directory
-
buildsrc-out.txt
16-Oct-2021 04:05
901
buildsrc-summary.dcf
16-Oct-2021 04:05
342
install-out.txt
16-Oct-2021 04:05
643
install-summary.dcf
16-Oct-2021 04:05
271