Index of /checkResults/3.13/bioc-LATEST/affyQCReport/raw-results/machv2
Name
Last modified
Size
Description
Parent Directory
-
buildsrc-out.txt
16-Oct-2021 04:06
935
buildsrc-summary.dcf
16-Oct-2021 04:06
370
install-out.txt
16-Oct-2021 04:06
716
install-summary.dcf
16-Oct-2021 04:06
298