Index of /checkResults/3.13/bioc-LATEST/affyPara/raw-results/tokay2
Name
Last modified
Size
Description
Parent Directory
-
buildsrc-out.txt
16-Oct-2021 04:05
2.6K
buildsrc-summary.dcf
16-Oct-2021 04:05
465
install-out.txt
16-Oct-2021 04:05
3.0K
install-summary.dcf
16-Oct-2021 04:05
652