![]() | Name | Last modified | Size | Description |
---|---|---|---|---|
![]() | Parent Directory | - | ||
![]() | buildsrc-summary.dcf | 16-Oct-2021 04:05 | 446 | |
![]() | checksrc-summary.dcf | 16-Oct-2021 04:05 | 456 | |
![]() | buildbin-summary.dcf | 16-Oct-2021 04:05 | 522 | |
![]() | install-summary.dcf | 16-Oct-2021 04:05 | 613 | |
![]() | buildsrc-out.txt | 16-Oct-2021 04:05 | 1.0K | |
![]() | checksrc-out.txt | 16-Oct-2021 04:05 | 5.8K | |
![]() | buildbin-out.txt | 16-Oct-2021 04:05 | 8.7K | |
![]() | install-out.txt | 16-Oct-2021 04:05 | 9.5K | |