![]() | Name | Last modified | Size | Description |
---|---|---|---|---|
![]() | Parent Directory | - | ||
![]() | buildbin-out.txt | 16-Oct-2021 04:05 | 1.6K | |
![]() | buildbin-summary.dcf | 16-Oct-2021 04:05 | 563 | |
![]() | buildsrc-out.txt | 16-Oct-2021 04:05 | 865 | |
![]() | buildsrc-summary.dcf | 16-Oct-2021 04:05 | 473 | |
![]() | checksrc-out.txt | 16-Oct-2021 04:05 | 3.6K | |
![]() | checksrc-summary.dcf | 16-Oct-2021 04:05 | 477 | |
![]() | install-out.txt | 16-Oct-2021 04:05 | 2.3K | |
![]() | install-summary.dcf | 16-Oct-2021 04:05 | 676 | |