Name | Last modified | Size | Description | |
---|---|---|---|---|
Parent Directory | - | |||
buildbin-out.txt | 16-Oct-2021 04:06 | 5.5K | ||
buildbin-summary.dcf | 16-Oct-2021 04:06 | 552 | ||
buildsrc-out.txt | 16-Oct-2021 04:06 | 887 | ||
buildsrc-summary.dcf | 16-Oct-2021 04:06 | 467 | ||
checksrc-out.txt | 16-Oct-2021 04:06 | 5.6K | ||
checksrc-summary.dcf | 16-Oct-2021 04:06 | 470 | ||
install-out.txt | 16-Oct-2021 04:06 | 6.2K | ||
install-summary.dcf | 16-Oct-2021 04:06 | 659 | ||