Index of /checkResults/3.13/bioc-LATEST/TCGAbiolinks/raw-results

[ICO]NameLast modifiedSizeDescription

[DIR]Parent Directory  -  
[   ]info.dcf14-Oct-2021 04:06 290  
[DIR]machv2/14-Oct-2021 04:06 -  
[DIR]nebbiolo1/14-Oct-2021 04:05 -  
[DIR]tokay2/14-Oct-2021 04:05 -