Index of /checkResults/3.13/bioc-LATEST/Sushi/raw-results/tokay2
Name
Last modified
Size
Description
Parent Directory
-
buildsrc-out.txt
16-Oct-2021 04:06
1.3K
buildsrc-summary.dcf
16-Oct-2021 04:06
368
install-out.txt
16-Oct-2021 04:06
3.7K
install-summary.dcf
16-Oct-2021 04:06
623