Name | Last modified | Size | Description | |
---|---|---|---|---|
Parent Directory | - | |||
buildbin-out.txt | 16-Oct-2021 04:06 | 2.1K | ||
buildbin-summary.dcf | 16-Oct-2021 04:06 | 536 | ||
buildsrc-out.txt | 16-Oct-2021 04:06 | 937 | ||
buildsrc-summary.dcf | 16-Oct-2021 04:06 | 456 | ||
checksrc-out.txt | 16-Oct-2021 04:06 | 3.7K | ||
checksrc-summary.dcf | 16-Oct-2021 04:06 | 460 | ||
install-out.txt | 16-Oct-2021 04:06 | 2.8K | ||
install-summary.dcf | 16-Oct-2021 04:06 | 634 | ||