![]() | Name | Last modified | Size | Description |
---|---|---|---|---|
![]() | Parent Directory | - | ||
![]() | buildbin-summary.dcf | 16-Oct-2021 04:06 | 527 | |
![]() | buildbin-out.txt | 16-Oct-2021 04:06 | 2.4K | |
![]() | checksrc-summary.dcf | 16-Oct-2021 04:06 | 454 | |
![]() | checksrc-out.txt | 16-Oct-2021 04:06 | 3.7K | |
![]() | buildsrc-summary.dcf | 16-Oct-2021 04:06 | 450 | |
![]() | buildsrc-out.txt | 16-Oct-2021 04:06 | 895 | |
![]() | install-summary.dcf | 16-Oct-2021 04:06 | 622 | |
![]() | install-out.txt | 16-Oct-2021 04:06 | 3.0K | |