Name | Last modified | Size | Description | |
---|---|---|---|---|
Parent Directory | - | |||
install-summary.dcf | 16-Oct-2021 04:05 | 254 | ||
install-out.txt | 16-Oct-2021 04:05 | 949 | ||
checksrc-summary.dcf | 16-Oct-2021 04:05 | 415 | ||
checksrc-out.txt | 16-Oct-2021 04:05 | 3.1K | ||
buildsrc-summary.dcf | 16-Oct-2021 04:05 | 411 | ||
buildsrc-out.txt | 16-Oct-2021 04:05 | 861 | ||