Name | Last modified | Size | Description | |
---|---|---|---|---|
Parent Directory | - | |||
install-summary.dcf | 16-Oct-2021 04:06 | 613 | ||
install-out.txt | 16-Oct-2021 04:06 | 5.9K | ||
checksrc-summary.dcf | 16-Oct-2021 04:06 | 452 | ||
checksrc-out.txt | 16-Oct-2021 04:06 | 1.4K | ||
buildsrc-summary.dcf | 16-Oct-2021 04:06 | 446 | ||
buildsrc-out.txt | 16-Oct-2021 04:06 | 862 | ||
buildbin-summary.dcf | 16-Oct-2021 04:06 | 521 | ||
buildbin-out.txt | 16-Oct-2021 04:06 | 5.2K | ||