Name | Last modified | Size | Description | |
---|---|---|---|---|
Parent Directory | - | |||
buildbin-out.txt | 16-Oct-2021 04:06 | 1.4K | ||
buildbin-summary.dcf | 16-Oct-2021 04:06 | 535 | ||
buildsrc-out.txt | 16-Oct-2021 04:06 | 846 | ||
buildsrc-summary.dcf | 16-Oct-2021 04:06 | 461 | ||
checksrc-out.txt | 16-Oct-2021 04:06 | 4.1K | ||
checksrc-summary.dcf | 16-Oct-2021 04:06 | 462 | ||
install-out.txt | 16-Oct-2021 04:06 | 1.3K | ||
install-summary.dcf | 16-Oct-2021 04:06 | 296 | ||