Name | Last modified | Size | Description | |
---|---|---|---|---|
Parent Directory | - | |||
buildbin-out.txt | 16-Oct-2021 04:06 | 1.7K | ||
buildbin-summary.dcf | 16-Oct-2021 04:06 | 543 | ||
buildsrc-out.txt | 16-Oct-2021 04:06 | 909 | ||
buildsrc-summary.dcf | 16-Oct-2021 04:06 | 459 | ||
checksrc-out.txt | 16-Oct-2021 04:06 | 6.5K | ||
checksrc-summary.dcf | 16-Oct-2021 04:06 | 471 | ||
install-out.txt | 16-Oct-2021 04:06 | 2.3K | ||
install-summary.dcf | 16-Oct-2021 04:06 | 643 | ||