Name | Last modified | Size | Description | |
---|---|---|---|---|
Parent Directory | - | |||
install-summary.dcf | 16-Oct-2021 04:06 | 287 | ||
install-out.txt | 16-Oct-2021 04:06 | 1.0K | ||
checksrc-summary.dcf | 16-Oct-2021 04:06 | 487 | ||
checksrc-out.txt | 16-Oct-2021 04:06 | 6.0K | ||
buildsrc-summary.dcf | 16-Oct-2021 04:06 | 446 | ||
buildsrc-out.txt | 16-Oct-2021 04:06 | 899 | ||
buildbin-summary.dcf | 16-Oct-2021 04:06 | 550 | ||
buildbin-out.txt | 16-Oct-2021 04:06 | 1.2K | ||