Name | Last modified | Size | Description | |
---|---|---|---|---|
Parent Directory | - | |||
checksrc-out.txt | 16-Oct-2021 04:06 | 6.3K | ||
buildbin-out.txt | 16-Oct-2021 04:06 | 1.2K | ||
install-out.txt | 16-Oct-2021 04:06 | 1.0K | ||
buildsrc-out.txt | 16-Oct-2021 04:06 | 824 | ||
buildbin-summary.dcf | 16-Oct-2021 04:06 | 532 | ||
checksrc-summary.dcf | 16-Oct-2021 04:06 | 468 | ||
buildsrc-summary.dcf | 16-Oct-2021 04:06 | 437 | ||
install-summary.dcf | 16-Oct-2021 04:06 | 281 | ||