Index of /checkResults/3.13/bioc-LATEST/PCpheno/raw-results/tokay2
Name
Last modified
Size
Description
Parent Directory
-
buildsrc-summary.dcf
16-Oct-2021 04:06
461
install-summary.dcf
16-Oct-2021 04:06
642
buildsrc-out.txt
16-Oct-2021 04:06
938
install-out.txt
16-Oct-2021 04:06
1.3K