Name | Last modified | Size | Description | |
---|---|---|---|---|
Parent Directory | - | |||
install-summary.dcf | 16-Oct-2021 04:06 | 629 | ||
install-out.txt | 16-Oct-2021 04:06 | 28K | ||
checksrc-summary.dcf | 16-Oct-2021 04:06 | 457 | ||
checksrc-out.txt | 16-Oct-2021 04:06 | 21K | ||
buildsrc-summary.dcf | 16-Oct-2021 04:06 | 453 | ||
buildsrc-out.txt | 16-Oct-2021 04:06 | 905 | ||
buildbin-summary.dcf | 16-Oct-2021 04:06 | 531 | ||
buildbin-out.txt | 16-Oct-2021 04:06 | 27K | ||