Index of /checkResults/3.13/bioc-LATEST/ORFhunteR/raw-results/tokay2
Name
Last modified
Size
Description
Parent Directory
-
buildsrc-out.txt
16-Oct-2021 04:06
915
buildsrc-summary.dcf
16-Oct-2021 04:06
380
install-out.txt
16-Oct-2021 04:06
5.4K
install-summary.dcf
16-Oct-2021 04:06
653