Name | Last modified | Size | Description | |
---|---|---|---|---|
Parent Directory | - | |||
install-summary.dcf | 16-Oct-2021 04:05 | 269 | ||
install-out.txt | 16-Oct-2021 04:05 | 228K | ||
checksrc-summary.dcf | 16-Oct-2021 04:05 | 449 | ||
checksrc-out.txt | 16-Oct-2021 04:05 | 12K | ||
buildsrc-summary.dcf | 16-Oct-2021 04:05 | 432 | ||
buildsrc-out.txt | 16-Oct-2021 04:05 | 967 | ||