Index of /checkResults/3.13/bioc-LATEST/NCIgraph/raw-results
Name
Last modified
Size
Description
Parent Directory
-
info.dcf
16-Oct-2021 04:05
277
nebbiolo1/
16-Oct-2021 04:05
-