Index of /checkResults/3.13/bioc-LATEST/MSstatsTMTPTM/raw-results/nebbiolo1
Name
Last modified
Size
Description
Parent Directory
-
install-summary.dcf
16-Oct-2021 04:05
270
buildsrc-summary.dcf
16-Oct-2021 04:05
344
install-out.txt
16-Oct-2021 04:05
1.7K
buildsrc-out.txt
16-Oct-2021 04:05
1.7K