Index of /checkResults/3.13/bioc-LATEST/MSstatsTMTPTM/raw-results/machv2
Name
Last modified
Size
Description
Parent Directory
-
buildsrc-summary.dcf
16-Oct-2021 04:06
371
buildsrc-out.txt
16-Oct-2021 04:06
1.8K
install-summary.dcf
16-Oct-2021 04:06
297
install-out.txt
16-Oct-2021 04:06
2.1K