Index of /checkResults/3.13/bioc-LATEST/MSstatsPTM/raw-results/tokay2

[ICO]NameLast modifiedSizeDescription

[DIR]Parent Directory  -  
[   ]install-summary.dcf16-Oct-2021 04:06 662  
[TXT]install-out.txt16-Oct-2021 04:06 4.9K 
[   ]checksrc-summary.dcf16-Oct-2021 04:06 472  
[TXT]checksrc-out.txt16-Oct-2021 04:06 7.3K 
[   ]buildsrc-summary.dcf16-Oct-2021 04:06 469  
[TXT]buildsrc-out.txt16-Oct-2021 04:06 891  
[   ]buildbin-summary.dcf16-Oct-2021 04:06 554  
[TXT]buildbin-out.txt16-Oct-2021 04:06 4.0K