Index of /checkResults/3.13/bioc-LATEST/MSGFgui/raw-results/machv2
Name
Last modified
Size
Description
Parent Directory
-
buildsrc-out.txt
16-Oct-2021 04:06
908
buildsrc-summary.dcf
16-Oct-2021 04:06
359
install-out.txt
16-Oct-2021 04:06
699
install-summary.dcf
16-Oct-2021 04:06
289