![]() | Name | Last modified | Size | Description |
---|---|---|---|---|
![]() | Parent Directory | - | ||
![]() | buildsrc-out.txt | 16-Oct-2021 04:05 | 837 | |
![]() | buildsrc-summary.dcf | 16-Oct-2021 04:05 | 409 | |
![]() | checksrc-out.txt | 16-Oct-2021 04:05 | 3.7K | |
![]() | checksrc-summary.dcf | 16-Oct-2021 04:05 | 414 | |
![]() | install-out.txt | 16-Oct-2021 04:05 | 801 | |
![]() | install-summary.dcf | 16-Oct-2021 04:05 | 254 | |