Name | Last modified | Size | Description | |
---|---|---|---|---|
Parent Directory | - | |||
checksrc-out.txt | 16-Oct-2021 04:06 | 4.5K | ||
install-out.txt | 16-Oct-2021 04:06 | 2.6K | ||
buildbin-out.txt | 16-Oct-2021 04:06 | 1.9K | ||
buildsrc-out.txt | 16-Oct-2021 04:06 | 895 | ||
install-summary.dcf | 16-Oct-2021 04:06 | 731 | ||
buildbin-summary.dcf | 16-Oct-2021 04:06 | 599 | ||
checksrc-summary.dcf | 16-Oct-2021 04:06 | 502 | ||
buildsrc-summary.dcf | 16-Oct-2021 04:06 | 498 | ||